BEGIN:VCALENDAR
VERSION:2.0
PRODID:-//ChamberMaster//Event Calendar 2.0//EN
METHOD:PUBLISH
X-PUBLISHED-TTL:P3D
REFRESH-INTERVAL:P3D
CALSCALE:GREGORIAN
BEGIN:VEVENT
DTSTART:20241017T190000Z
DTEND:20241017T194500Z
X-MICROSOFT-CDO-ALLDAYEVENT:FALSE
SUMMARY:Home School Hub
DESCRIPTION:Homeschool Hub\n\n\n\nHomeschool Hub is a program from homeschooled children. It focuses on art and science.  This program is free with paid admission.\n\n\n\nOct. 3rd: SCIENCE: Ferris Wheel Cilp It Kits\n\nOct. 10th: ART:  Roylo Kente Weaving Mats\n\nOct. 17th: SCIENCE: Index Card Chain\n\nOct. 24th: ART: Yarn Art\n\nOct. 31st: SCIENCE: Floating Spider Experiments\n\n\n\nMuseum closes promptly at 3pm.
X-ALT-DESC;FMTTYPE=text/html:Homeschool Hub<br />\n<br />\nHomeschool Hub is a program from homeschooled children. It focuses on art and science.&nbsp\; This program is free with paid admission.<br />\n<br />\nOct. 3rd: SCIENCE: Ferris Wheel Cilp It Kits<br />\nOct. 10th: ART:&nbsp\; Roylo Kente Weaving Mats<br />\nOct. 17th: SCIENCE: Index Card Chain<br />\nOct. 24th: ART: Yarn Art<br />\nOct. 31st: SCIENCE: Floating Spider Experiments<br />\n<br />\nMuseum closes promptly at 3pm.
LOCATION:Discovery Depot 128 S Chambers Galesburg\, IL
UID:e.2125.16036
SEQUENCE:3
DTSTAMP:20260422T054700Z
URL:https://business.macombareachamber.com/events/details/home-school-hub-10-17-2024-16036
END:VEVENT

END:VCALENDAR
