BEGIN:VCALENDAR
VERSION:2.0
PRODID:-//ChamberMaster//Event Calendar 2.0//EN
METHOD:PUBLISH
X-PUBLISHED-TTL:P3D
REFRESH-INTERVAL:P3D
CALSCALE:GREGORIAN
BEGIN:VEVENT
DTSTART:20230907T190000Z
DTEND:20230907T194500Z
X-MICROSOFT-CDO-ALLDAYEVENT:FALSE
SUMMARY:Home School Hub
DESCRIPTION:September 7th: ART   Picasso Self-Portraits\n\nSeptember 14th: SCIENCE   Chalk  Rockets (Chemistry)\n\nSeptember 21st: ART   Warhol Pop Art \n\nSeptember 28th: SCIENCE   Exploding Sticky Seeds (Earth Science)
X-ALT-DESC;FMTTYPE=text/html:September 7th: ART &ndash\; Picasso Self-Portraits<br />\nSeptember 14th: SCIENCE &ndash\; Chalk&nbsp\; Rockets (Chemistry)<br />\nSeptember 21st: ART &ndash\; Warhol Pop Art&nbsp\;<br />\nSeptember 28th: SCIENCE &ndash\; Exploding Sticky Seeds (Earth Science)
LOCATION:
UID:e.2125.13721
SEQUENCE:3
DTSTAMP:20260422T152834Z
URL:https://business.macombareachamber.com/events/details/home-school-hub-09-07-2023-13721
END:VEVENT

END:VCALENDAR
