BEGIN:VCALENDAR
VERSION:2.0
PRODID:-//ChamberMaster//Event Calendar 2.0//EN
METHOD:PUBLISH
X-PUBLISHED-TTL:P3D
REFRESH-INTERVAL:P3D
CALSCALE:GREGORIAN
BEGIN:VEVENT
DTSTART:20250508T190000Z
DTEND:20250508T194500Z
X-MICROSOFT-CDO-ALLDAYEVENT:FALSE
SUMMARY:Home School Hub
DESCRIPTION:Home School Hub is a program for home schooled children. It focuses on Science and Art. This program is free with admission.\n\nMay 1st    SCIENCE   Balloon Rocket\n\nMay 8th   ART   Mother's Day Fingerprint Flower Bouquet
X-ALT-DESC;FMTTYPE=text/html:Home School Hub is a program for home schooled children. It focuses on Science and Art. This program is free with admission.<br />\nMay 1st&nbsp\; &ndash\; SCIENCE &ndash\; Balloon Rocket<br />\nMay 8th &ndash\; ART &ndash\; Mother&#39\;s Day Fingerprint Flower Bouquet<br />\n&nbsp\;
LOCATION:Discovery Depot Children's Museum 128 S. Chambers Street Galesburg\, IL 61401 309-344-8876
UID:e.2125.18866
SEQUENCE:3
DTSTAMP:20260420T083424Z
URL:https://business.macombareachamber.com/events/details/home-school-hub-05-08-2025-18866
END:VEVENT

END:VCALENDAR
