BEGIN:VCALENDAR
VERSION:2.0
PRODID:-//ChamberMaster//Event Calendar 2.0//EN
METHOD:PUBLISH
X-PUBLISHED-TTL:P3D
REFRESH-INTERVAL:P3D
CALSCALE:GREGORIAN
BEGIN:VEVENT
DTSTART:20220929T210000Z
DTEND:20220930T010000Z
X-MICROSOFT-CDO-ALLDAYEVENT:FALSE
SUMMARY:Hocus Pocus Fashion Funday Party
DESCRIPTION:Macomb Maurices is hosting a Hocus Pocus Fashion Funday! All are welcome\, so invite all of your friends and family!\n\n15% off your total purchase\n\nAn additional 10% off if you use your Maurices Credit Card\n\nOR an additional 15% off with first time Maurices Credit Card approval\n\nChance to win a $10 Maurices Gift Card and Maurices swag\n\nBONUS:\n\nTake a selfie of you watching Hocus Pocus 2 9/30- 10/2 in your favorite Maurices look\, tag @macombhometownstylists on Instagram or Facebook AND use hashtag #macombwitchparty\, and we'll give you a coupon for $10 off a $50 future purchase.
X-ALT-DESC;FMTTYPE=text/html:Macomb Maurices is hosting a Hocus Pocus Fashion Funday! All are welcome\, so invite all of your friends and family!<br />\n15% off your total purchase<br />\nAn additional 10% off if you use your Maurices Credit Card<br />\nOR an additional 15% off with first time Maurices Credit Card approval<br />\nChance to win a $10 Maurices Gift Card and Maurices swag<br />\nBONUS:<br />\nTake a selfie of you watching Hocus Pocus 2 9/30- 10/2 in your favorite Maurices look\, tag @macombhometownstylists on Instagram or Facebook AND use hashtag #macombwitchparty\, and we&rsquo\;ll give you a coupon for $10 off a $50 future purchase.&nbsp\;
LOCATION:Maurices - 1690 East Jackson Street\, Suite A\, Macomb
UID:e.2125.10321
SEQUENCE:3
DTSTAMP:20260423T091718Z
URL:https://business.macombareachamber.com/events/details/hocus-pocus-fashion-funday-party-10321
END:VEVENT

END:VCALENDAR
