BEGIN:VCALENDAR
VERSION:2.0
PRODID:-//ChamberMaster//Event Calendar 2.0//EN
METHOD:PUBLISH
X-PUBLISHED-TTL:P3D
REFRESH-INTERVAL:P3D
CALSCALE:GREGORIAN
BEGIN:VEVENT
DTSTART:20241031T210000Z
DTEND:20241031T230000Z
X-MICROSOFT-CDO-ALLDAYEVENT:FALSE
SUMMARY:Haymaker Halloweenie Special
DESCRIPTION:Kids in costume get a FREE hot dog!
X-ALT-DESC;FMTTYPE=text/html:Kids in costume get a FREE hot dog!
LOCATION:Haymakers 101 S. Dudley St. Macomb\, IL
UID:e.2125.16134
SEQUENCE:3
DTSTAMP:20260422T092752Z
URL:https://business.macombareachamber.com/events/details/haymaker-halloweenie-special-16134
END:VEVENT

END:VCALENDAR
