BEGIN:VCALENDAR
VERSION:2.0
PRODID:-//ChamberMaster//Event Calendar 2.0//EN
METHOD:PUBLISH
X-PUBLISHED-TTL:P3D
REFRESH-INTERVAL:P3D
CALSCALE:GREGORIAN
BEGIN:VEVENT
DTSTART:20231029T220000Z
DTEND:20231030T020000Z
X-MICROSOFT-CDO-ALLDAYEVENT:FALSE
SUMMARY:Haunted Trail
DESCRIPTION:Horn Field Haunted Trail.
X-ALT-DESC;FMTTYPE=text/html:Horn Field Haunted Trail.&nbsp\;
LOCATION:985 China Road Macomb\, Illinois
UID:e.2125.14007
SEQUENCE:3
DTSTAMP:20260422T121921Z
URL:https://business.macombareachamber.com/events/details/haunted-trail-14007
END:VEVENT

END:VCALENDAR
