BEGIN:VCALENDAR
VERSION:2.0
PRODID:-//ChamberMaster//Event Calendar 2.0//EN
METHOD:PUBLISH
X-PUBLISHED-TTL:P3D
REFRESH-INTERVAL:P3D
CALSCALE:GREGORIAN
BEGIN:VEVENT
DTSTART:20230729T150000Z
DTEND:20230729T230000Z
X-MICROSOFT-CDO-ALLDAYEVENT:FALSE
SUMMARY:Happy Birthday Harry Potter Paint Party
DESCRIPTION:Calling all muggles\, witches and wizards! Come celebrate Harry Potter's birthday a couple days early at The Crafty Coop! We will have wizard themed snacks and drinks\, a variety of Harry Potter-y pieces for you to paint\, photo opps\, and MORE! Costumes are encouraged!\n\nSure to be a magical day \n\nReservations required for this event! You will need to purchase a ticket in advance to attend AND message me to reserve your time and how many painters will be in your group. Tickets are $5 each and will go towards your pottery purchase that evening. Tickets are non refundable due to no call/no show issues in the past. Plan to spend spend 1-2 hours painting \n\nMessage the studio with questions
X-ALT-DESC;FMTTYPE=text/html:Calling all muggles\, witches and wizards! Come celebrate Harry Potter&#39\;s birthday a couple days early at The Crafty Coop! We will have wizard themed snacks and drinks\, a variety of Harry Potter-y pieces for you to paint\, photo opps\, and MORE! Costumes are encouraged!<br />\nSure to be a magical day&nbsp\;<br />\nReservations required for this event! You will need to purchase a ticket in advance to attend AND message me to reserve your time and how many painters will be in your group. Tickets are $5 each and will go towards your pottery purchase that evening. Tickets are non refundable due to no call/no show issues in the past. Plan to spend spend 1-2 hours painting&nbsp\;<br />\nMessage the studio with questions<br />\n&nbsp\;
LOCATION:The Crafty Coop - 206 N. Lafayette\, Macomb
UID:e.2125.13542
SEQUENCE:3
DTSTAMP:20260423T175844Z
URL:https://business.macombareachamber.com/events/details/happy-birthday-harry-potter-paint-party-13542
END:VEVENT

END:VCALENDAR
