BEGIN:VCALENDAR
VERSION:2.0
PRODID:-//ChamberMaster//Event Calendar 2.0//EN
METHOD:PUBLISH
X-PUBLISHED-TTL:P3D
REFRESH-INTERVAL:P3D
CALSCALE:GREGORIAN
BEGIN:VEVENT
DTSTART:20230711T140000Z
DTEND:20230711T180000Z
X-MICROSOFT-CDO-ALLDAYEVENT:FALSE
SUMMARY:Happy 27th Birthday Discovery Depot
DESCRIPTION:Join us to celebrate our 27th birthday! Enjoy reduced admission\, design a birthday card or decorate a balloon! \n\n$5.00 Admission/Members free
X-ALT-DESC;FMTTYPE=text/html:Join us to celebrate our 27th birthday! Enjoy reduced admission\, design a birthday card or decorate a balloon!&nbsp\;<br />\n$5.00 Admission/Members free
LOCATION:Discovery Depot Children's Museum 128 S Chambers St Galesburg IL\, 61401
UID:e.2125.13593
SEQUENCE:3
DTSTAMP:20260423T174928Z
URL:https://business.macombareachamber.com/events/details/happy-27th-birthday-discovery-depot-13593
END:VEVENT

END:VCALENDAR
