BEGIN:VCALENDAR
VERSION:2.0
PRODID:-//ChamberMaster//Event Calendar 2.0//EN
METHOD:PUBLISH
X-PUBLISHED-TTL:P3D
REFRESH-INTERVAL:P3D
CALSCALE:GREGORIAN
BEGIN:VEVENT
DTSTART:20240719T160000Z
DTEND:20240719T180000Z
X-MICROSOFT-CDO-ALLDAYEVENT:FALSE
SUMMARY:HAMC Health Fair
DESCRIPTION:The Housing Authority of McDonough County Health Fair. Come join us and learn about agencies and services offered in the community. Door prizes! Lunch provided!
X-ALT-DESC;FMTTYPE=text/html:The Housing Authority of McDonough County Health Fair. Come join us and learn about agencies and services offered in the community. Door prizes! Lunch provided!
LOCATION:770 W. Hurst St. Bushnell\, IL
UID:e.2125.15072
SEQUENCE:3
DTSTAMP:20260419T145423Z
URL:https://business.macombareachamber.com/events/details/hamc-health-fair-15072
END:VEVENT

END:VCALENDAR
