BEGIN:VCALENDAR
VERSION:2.0
PRODID:-//ChamberMaster//Event Calendar 2.0//EN
METHOD:PUBLISH
X-PUBLISHED-TTL:P3D
REFRESH-INTERVAL:P3D
CALSCALE:GREGORIAN
BEGIN:VEVENT
DTSTART:20231030T230000Z
DTEND:20231101T013000Z
X-MICROSOFT-CDO-ALLDAYEVENT:FALSE
SUMMARY:Halloween Trick or Treating
DESCRIPTION:CITY ANNOUNCES GUIDANCE FOR TRICK-OR-TREATING\n\n\n\nThe City of Macomb announced today that MONDAY\, October 30\, and TUESDAY\, October 31 have been designated as the dates for City-wide door-to-door Trick or Treating. The hours have been set for 6:00PM to 8:30PM\, both evenings.\n\n\n\nResidents wishing to participate should have their exterior light on\, which will not only indicate their willingness to greet and treat "ghouls and goblins" but provide an added measure of safety as well. Trick or treating activity should be limited to ages (12) and under.\n\n\n\nParents are asked to accompany youngsters to ensure safety when crossing streets and encourage them to wear reflective clothing if possible. Motorists are encouraged to be extra vigilant as many neighborhoods will be filled with pedestrians focusing on treats.
X-ALT-DESC;FMTTYPE=text/html:<div class="xdj266r x11i5rnm xat24cr x1mh8g0r x1vvkbs x126k92a" style="margin: 0px\; overflow-wrap: break-word\; white-space-collapse: preserve\; font-family: &quot\;Segoe UI Historic&quot\;\, &quot\;Segoe UI&quot\;\, Helvetica\, Arial\, sans-serif\; color: rgb(5\, 5\, 5)\; font-size: 15px\;">\n<div dir="auto" style="font-family: inherit\;">CITY ANNOUNCES GUIDANCE FOR TRICK-OR-TREATING</div>\n</div>\n\n<div class="x11i5rnm xat24cr x1mh8g0r x1vvkbs xtlvy1s x126k92a" style="margin: 0.5em 0px 0px\; overflow-wrap: break-word\; white-space-collapse: preserve\; font-family: &quot\;Segoe UI Historic&quot\;\, &quot\;Segoe UI&quot\;\, Helvetica\, Arial\, sans-serif\; color: rgb(5\, 5\, 5)\; font-size: 15px\;">\n<div dir="auto" style="font-family: inherit\;">The City of Macomb announced today that MONDAY\, October 30\, and TUESDAY\, October 31 have been designated as the dates for City-wide door-to-door Trick or Treating. The hours have been set for 6:00PM to 8:30PM\, both evenings.</div>\n</div>\n\n<div class="x11i5rnm xat24cr x1mh8g0r x1vvkbs xtlvy1s x126k92a" style="margin: 0.5em 0px 0px\; overflow-wrap: break-word\; white-space-collapse: preserve\; font-family: &quot\;Segoe UI Historic&quot\;\, &quot\;Segoe UI&quot\;\, Helvetica\, Arial\, sans-serif\; color: rgb(5\, 5\, 5)\; font-size: 15px\;">\n<div dir="auto" style="font-family: inherit\;">Residents wishing to participate should have their exterior light on\, which will not only indicate their willingness to greet and treat &ldquo\;ghouls and goblins&rdquo\; but provide an added measure of safety as well. Trick or treating activity should be limited to ages (12) and under.</div>\n</div>\n\n<div class="x11i5rnm xat24cr x1mh8g0r x1vvkbs xtlvy1s x126k92a" style="margin: 0.5em 0px 0px\; overflow-wrap: break-word\; white-space-collapse: preserve\; font-family: &quot\;Segoe UI Historic&quot\;\, &quot\;Segoe UI&quot\;\, Helvetica\, Arial\, sans-serif\; color: rgb(5\, 5\, 5)\; font-size: 15px\;">\n<div dir="auto" style="font-family: inherit\;">Parents are asked to accompany youngsters to ensure safety when crossing streets and encourage them to wear reflective clothing if possible. Motorists are encouraged to be extra vigilant as many neighborhoods will be filled with pedestrians focusing on treats.</div>\n</div>\n
LOCATION:The City of Macomb
UID:e.2125.13775
SEQUENCE:3
DTSTAMP:20260422T122725Z
URL:https://business.macombareachamber.com/events/details/halloween-trick-or-treating-10-30-2023-13775
END:VEVENT

END:VCALENDAR
