BEGIN:VCALENDAR
VERSION:2.0
PRODID:-//ChamberMaster//Event Calendar 2.0//EN
METHOD:PUBLISH
X-PUBLISHED-TTL:P3D
REFRESH-INTERVAL:P3D
CALSCALE:GREGORIAN
BEGIN:VEVENT
DTSTART:20241026T200000Z
DTEND:20241026T220000Z
X-MICROSOFT-CDO-ALLDAYEVENT:FALSE
SUMMARY:Halloween Hoopla
DESCRIPTION:October 26  3:00 PM - 5:00 PM\n\nJoin us for Halloween Hoopla! A night filled with spooky carnival games\, craft creations\, trick or treating\, mad scientist lab\, feast with the witches\, pumpkin patch photo opps and more! Wear your costume! Rain or shine.\n\nAges 1 to 12.\n\n\n\nMembers: $6.50\n\nNon-members: $8.50\n\nParents are free.\n\n\n\nDiscovery Depot will close at 1:00pm on Saturday\, October 26th for set up.
X-ALT-DESC;FMTTYPE=text/html:<div>October 26&nbsp\; 3:00 PM&nbsp\;-&nbsp\;5:00 PM</div>\n\n<div>Join us for Halloween Hoopla! A night filled with spooky carnival games\, craft creations\, trick or treating\, mad scientist lab\, feast with the witches\, pumpkin patch photo opps and more! Wear your costume! Rain or shine.<br />\nAges 1 to 12.<br />\n<br />\nMembers: $6.50<br />\nNon-members: $8.50<br />\nParents are free.<br />\n<br />\nDiscovery Depot will close at 1:00pm on Saturday\, October 26th for set up.</div>\n
LOCATION:Discovery Depot Children's Museum 128 S. Chambers Street Galesburg\, IL
UID:e.2125.15982
SEQUENCE:3
DTSTAMP:20260422T072744Z
URL:https://business.macombareachamber.com/events/details/halloween-hoopla-10-26-2024-15982
END:VEVENT

END:VCALENDAR
