BEGIN:VCALENDAR
VERSION:2.0
PRODID:-//ChamberMaster//Event Calendar 2.0//EN
METHOD:PUBLISH
X-PUBLISHED-TTL:P3D
REFRESH-INTERVAL:P3D
CALSCALE:GREGORIAN
BEGIN:VEVENT
DTSTART;VALUE=DATE:20241031
DTEND;VALUE=DATE:20241101
TRANSP:TRANSPARENT
X-MICROSOFT-CDO-ALLDAYEVENT:TRUE
SUMMARY:Halloween Festival
DESCRIPTION:Halloween Festival with the WIU School of Music. \n\n4:30 PM: Kids activities and trick-or-treating. Food available for purchase. \n\n\n\n5:30 PM: WIU Jazz Studio orchestra performance. Including a costume parade across COFAC stage.
X-ALT-DESC;FMTTYPE=text/html:Halloween Festival with the WIU School of Music.&nbsp\;<br />\n4:30 PM: Kids activities and trick-or-treating. Food available for purchase.&nbsp\;<br />\n<br />\n5:30 PM: WIU Jazz Studio orchestra performance. Including a costume parade across COFAC stage.&nbsp\;
LOCATION:Western Illinois University - Macomb COFAC Recital Hall
UID:e.2125.16130
SEQUENCE:3
DTSTAMP:20260421T095707Z
URL:https://business.macombareachamber.com/events/details/halloween-festival-16130
END:VEVENT

END:VCALENDAR
