BEGIN:VCALENDAR
VERSION:2.0
PRODID:-//ChamberMaster//Event Calendar 2.0//EN
METHOD:PUBLISH
X-PUBLISHED-TTL:P3D
REFRESH-INTERVAL:P3D
CALSCALE:GREGORIAN
BEGIN:VEVENT
DTSTART:20241026T150000Z
DTEND:20241026T170000Z
X-MICROSOFT-CDO-ALLDAYEVENT:FALSE
SUMMARY:Halloween Cookies & Costumes
DESCRIPTION:Halloween Cookies & Costumes. Join for us trick or treating and decorate a cookie.
X-ALT-DESC;FMTTYPE=text/html:Halloween Cookies &amp\; Costumes. Join for us trick or treating and decorate a cookie.&nbsp\;
LOCATION:The Lamoine 203 N. Randolph St. Macomb\, IL
UID:e.2125.16079
SEQUENCE:3
DTSTAMP:20260422T054723Z
URL:https://business.macombareachamber.com/events/details/halloween-cookies-costumes-16079
END:VEVENT

END:VCALENDAR
