BEGIN:VCALENDAR
VERSION:2.0
PRODID:-//ChamberMaster//Event Calendar 2.0//EN
METHOD:PUBLISH
X-PUBLISHED-TTL:P3D
REFRESH-INTERVAL:P3D
CALSCALE:GREGORIAN
BEGIN:VEVENT
DTSTART;VALUE=DATE:20240425
DTEND;VALUE=DATE:20240426
TRANSP:TRANSPARENT
X-MICROSOFT-CDO-ALLDAYEVENT:TRUE
SUMMARY:Guest Speaker Dr. J Pete Blair: The School Shooting in Uvalde\, TX
DESCRIPTION:Join Western Illinois University and the School of Law Enforcement and Justice Administration for our guest speaker\, Dr. J. Pete Blair. Dr. Blair will be providing a talk on active shooter response in general\, and more specifically the Uvalde\, Texas school shooting which occured in May of 2022.
X-ALT-DESC;FMTTYPE=text/html:Join Western Illinois University and the School of Law Enforcement and Justice Administration for our guest speaker\, Dr. J. Pete Blair. Dr. Blair will be providing a talk on active shooter response in general\, and more specifically the Uvalde\, Texas school shooting which occured in May of 2022.&nbsp\;
LOCATION:Western Illinois University - Macomb Campus Stipes Hall - Room 121
UID:e.2125.14821
SEQUENCE:3
DTSTAMP:20260423T060557Z
URL:https://business.macombareachamber.com/events/details/guest-speaker-dr-j-pete-blair-the-school-shooting-in-uvalde-tx-14821
END:VEVENT

END:VCALENDAR
