BEGIN:VCALENDAR
VERSION:2.0
PRODID:-//ChamberMaster//Event Calendar 2.0//EN
METHOD:PUBLISH
X-PUBLISHED-TTL:P3D
REFRESH-INTERVAL:P3D
CALSCALE:GREGORIAN
BEGIN:VEVENT
DTSTART:20230926T000000Z
DTEND:20230926T023000Z
X-MICROSOFT-CDO-ALLDAYEVENT:FALSE
SUMMARY:Guest Night - Prairieland Barbershop Chorus
DESCRIPTION:We are hosting a special evening of a capella singing\, fun\, fellowship\, and plenty or refreshments. Come join us for the evening!
X-ALT-DESC;FMTTYPE=text/html:We are hosting a special evening of a capella singing\, fun\, fellowship\, and plenty or refreshments. Come join us for the evening!
LOCATION:First Presbyterian Church - 400 E. Carroll Street\, Macomb.
UID:e.2125.14017
SEQUENCE:3
DTSTAMP:20260422T135457Z
URL:https://business.macombareachamber.com/events/details/guest-night-prairieland-barbershop-chorus-14017
END:VEVENT

END:VCALENDAR
