BEGIN:VCALENDAR
VERSION:2.0
PRODID:-//ChamberMaster//Event Calendar 2.0//EN
METHOD:PUBLISH
X-PUBLISHED-TTL:P3D
REFRESH-INTERVAL:P3D
CALSCALE:GREGORIAN
BEGIN:VEVENT
DTSTART:20230709T180000Z
DTEND:20230709T200000Z
X-MICROSOFT-CDO-ALLDAYEVENT:FALSE
SUMMARY:Growing Up Green! Reusable Water Bombs
DESCRIPTION:Use recycled materials to create your own water toy for some fun in the sun! $1 with admission
X-ALT-DESC;FMTTYPE=text/html:Use recycled materials to create your own water toy for some fun in the sun! $1 with admission
LOCATION:Discovery Depot Children's Museum 128 S Chambers St Galesburg IL\, 61401
UID:e.2125.13598
SEQUENCE:3
DTSTAMP:20260423T174816Z
URL:https://business.macombareachamber.com/events/details/growing-up-green-reusable-water-bombs-13598
END:VEVENT

END:VCALENDAR
