BEGIN:VCALENDAR
VERSION:2.0
PRODID:-//ChamberMaster//Event Calendar 2.0//EN
METHOD:PUBLISH
X-PUBLISHED-TTL:P3D
REFRESH-INTERVAL:P3D
CALSCALE:GREGORIAN
BEGIN:VEVENT
DTSTART:20240914T153000Z
DTEND:20240914T183000Z
X-MICROSOFT-CDO-ALLDAYEVENT:FALSE
SUMMARY:Growing Up Green: Rainsticks
DESCRIPTION:Upcycle with us and create your very own Rainstick!\n\n\n\nFree with admission.
X-ALT-DESC;FMTTYPE=text/html:Upcycle with us and create your very own Rainstick!<br />\n<br />\nFree with admission.
LOCATION:Discovery Depot Children's Museum 128 S Chambers Street Galesburg\, Il 61401
UID:e.2125.15691
SEQUENCE:3
DTSTAMP:20260422T075335Z
URL:https://business.macombareachamber.com/events/details/growing-up-green-rainsticks-15691
END:VEVENT

END:VCALENDAR
