BEGIN:VCALENDAR
VERSION:2.0
PRODID:-//ChamberMaster//Event Calendar 2.0//EN
METHOD:PUBLISH
X-PUBLISHED-TTL:P3D
REFRESH-INTERVAL:P3D
CALSCALE:GREGORIAN
BEGIN:VEVENT
DTSTART:20231014T153000Z
DTEND:20231014T173000Z
X-MICROSOFT-CDO-ALLDAYEVENT:FALSE
SUMMARY:Growing up Green- Create a Costume Mask
DESCRIPTION:Join us for Growing up Green to Design your own costume mask using recycled materials!
X-ALT-DESC;FMTTYPE=text/html:Join us for Growing up Green to Design your own costume mask using recycled materials!
LOCATION:Discovery Depot Children's Museum 128 South Chambers Street Galesburg IL\,61401
UID:e.2125.14018
SEQUENCE:3
DTSTAMP:20260422T122308Z
URL:https://business.macombareachamber.com/events/details/growing-up-green-create-a-costume-mask-14018
END:VEVENT

END:VCALENDAR
