BEGIN:VCALENDAR
VERSION:2.0
PRODID:-//ChamberMaster//Event Calendar 2.0//EN
METHOD:PUBLISH
X-PUBLISHED-TTL:P3D
REFRESH-INTERVAL:P3D
CALSCALE:GREGORIAN
BEGIN:VEVENT
DTSTART:20230513T133000Z
DTEND:20230513T171500Z
X-MICROSOFT-CDO-ALLDAYEVENT:FALSE
SUMMARY:GROW Grief Retreat
DESCRIPTION:Join us on May 13th at Lakeview Nature Center from 8:30 AM -12:15 PM for GROW (Grief Resilience Outreach Workshop)\n\nChildren who experience the death of a loved one often feel alone and confused. Led by professionals\, the activities at this workshop will help your child heal and develop new coping skills. Activities include yoga\, group circle time\, a healing labyrinth walk\, and a clay memorial project. This workshop is open to ages 6-18 years. Register by May 11. \n\nFor more information\, you may contact Susan Denecke at 309-836-1582.
X-ALT-DESC;FMTTYPE=text/html:Join us on May 13th at Lakeview Nature Center from 8:30 AM -12:15 PM for GROW (Grief Resilience Outreach Workshop)<br />\nChildren who experience the death of a loved one often feel alone and confused. Led by professionals\, the activities at this workshop will help your child heal and develop new coping skills. Activities include yoga\, group circle time\, a healing labyrinth walk\, and a clay memorial project. This workshop is open to ages 6-18 years. Register by May 11.&nbsp\;<br />\nFor more information\, you may contact Susan Denecke at 309-836-1582.<br />\n&nbsp\;
LOCATION:Lakeview Nature Center - 10050 N 1500th Rd\, Macomb\, IL
UID:e.2125.12772
SEQUENCE:3
DTSTAMP:20260423T233113Z
URL:https://business.macombareachamber.com/events/details/grow-grief-retreat-12772
END:VEVENT

END:VCALENDAR
