BEGIN:VCALENDAR
VERSION:2.0
PRODID:-//ChamberMaster//Event Calendar 2.0//EN
METHOD:PUBLISH
X-PUBLISHED-TTL:P3D
REFRESH-INTERVAL:P3D
CALSCALE:GREGORIAN
BEGIN:VEVENT
DTSTART:20220729T220000Z
DTEND:20220730T010000Z
X-MICROSOFT-CDO-ALLDAYEVENT:FALSE
SUMMARY:Grand Prairie Park N' Cruise
DESCRIPTION:Grand Prairie Park N' Cruise. Friday\, July 29. 5-8 pm.\n\n1307 Meadowlark Lane\, Macomb. King Graffiti Band 5-7 pm.\n\nTacos El Gute Food Truck 5-8 pm.\n\nThere will be door prizes through the evening and a 50/50 drawing announced at 7:30 pm.\n\nAll proceeds will go to the Grand Prairie Resident Activity Fund.
X-ALT-DESC;FMTTYPE=text/html:<span style="position:absolute\;z-index:1\;left:22px\;top:17px\;width:987px\;height:1273px\;">Grand Prairie Park N&#39\; Cruise. Friday\, July 29. 5-8 pm.<br />\n1307 Meadowlark Lane\, Macomb. King Graffiti Band 5-7 pm.<br />\nTacos El Gute Food Truck 5-8 pm.<br />\nThere will be door prizes through the evening and a 50/50 drawing announced at 7:30 pm.<br />\nAll proceeds will go to the Grand Prairie Resident Activity Fund.&nbsp\;</span>
LOCATION:
UID:e.2125.9927
SEQUENCE:3
DTSTAMP:20260422T120534Z
URL:https://business.macombareachamber.com/events/details/grand-prairie-park-n-cruise-9927
END:VEVENT

END:VCALENDAR
