BEGIN:VCALENDAR
VERSION:2.0
PRODID:-//ChamberMaster//Event Calendar 2.0//EN
METHOD:PUBLISH
X-PUBLISHED-TTL:P3D
REFRESH-INTERVAL:P3D
CALSCALE:GREGORIAN
BEGIN:VEVENT
DTSTART:20230811T220000Z
DTEND:20230812T010000Z
X-MICROSOFT-CDO-ALLDAYEVENT:FALSE
SUMMARY:Grand Prairie Park-n-Cruise
DESCRIPTION:Grand Prairie Park-n-Cruise. Live music by King Graffiti 5-7 pm. Trails End Concessions 5-8 pm. J&C Popcorn 5-8 pm. Prizes will be awarded for Best in Show\, People's Choice\, and Best Work in Progress.
X-ALT-DESC;FMTTYPE=text/html:Grand Prairie Park-n-Cruise. Live music by King Graffiti 5-7 pm. Trails End Concessions 5-8 pm. J&amp\;C Popcorn 5-8 pm. Prizes will be awarded for Best in Show\, People&#39\;s Choice\, and Best Work in Progress.&nbsp\;
LOCATION:Grand Prairie of Macomb - 1307 Meadowlark Lane
UID:e.2125.13618
SEQUENCE:3
DTSTAMP:20260423T163444Z
URL:https://business.macombareachamber.com/events/details/grand-prairie-park-n-cruise-13618
END:VEVENT

END:VCALENDAR
