BEGIN:VCALENDAR
VERSION:2.0
PRODID:-//ChamberMaster//Event Calendar 2.0//EN
METHOD:PUBLISH
X-PUBLISHED-TTL:P3D
REFRESH-INTERVAL:P3D
CALSCALE:GREGORIAN
BEGIN:VEVENT
DTSTART:20230401T153000Z
DTEND:20230401T173000Z
X-MICROSOFT-CDO-ALLDAYEVENT:FALSE
SUMMARY:Goofy Glasses!
DESCRIPTION:Join us on April Fool's Day to create a pair of goofy glasses!
X-ALT-DESC;FMTTYPE=text/html:Join us on April Fool&#39\;s Day to create a pair of goofy glasses!
LOCATION:Discovery Depot 128 S Chambers St Galesburg\, IL\, 61401
UID:e.2125.13023
SEQUENCE:3
DTSTAMP:20260423T221437Z
URL:https://business.macombareachamber.com/events/details/goofy-glasses-13023
END:VEVENT

END:VCALENDAR
