BEGIN:VCALENDAR
VERSION:2.0
PRODID:-//ChamberMaster//Event Calendar 2.0//EN
METHOD:PUBLISH
X-PUBLISHED-TTL:P3D
REFRESH-INTERVAL:P3D
CALSCALE:GREGORIAN
BEGIN:VEVENT
DTSTART;VALUE=DATE:20240428
DTEND;VALUE=DATE:20240429
TRANSP:TRANSPARENT
X-MICROSOFT-CDO-ALLDAYEVENT:TRUE
SUMMARY:Golf Outing Fundraiser
DESCRIPTION:Macomb Police Explorer Post #4044 Golf Outing Fundraiser. Win prizes for flights\, hole contests\, 50/50 raffle. Tee times will be assigned once registration forms are submitted. Requests can be made via the registration form. Submit forms by April 21 to secure your spot!\n\n\n\n\n\nThe Macomb Police Explorers is a youth program for those interested in the field of law enforcement. This program enables youth to develop leadership skills\, serve the community\, and provides an environment based on teamwork. Funds raised will be utilized to purchase uniforms\, training aids\, and fund community service projects within our community. We are excited to host our first annual golf outing fundraiser! Please visit https://cityofmacomb.com/police-explorer-program/ to register!
X-ALT-DESC;FMTTYPE=text/html:Macomb Police Explorer Post #4044 Golf Outing Fundraiser. Win prizes for flights\, hole contests\, 50/50 raffle. Tee times will be assigned once registration forms are submitted. Requests can be made via the registration form. Submit forms by April 21 to secure your spot!<br />\n<br />\n<br />\nThe Macomb Police Explorers is a youth program for those interested in the field of law enforcement. This program enables youth to develop leadership skills\, serve the community\, and provides an environment based on teamwork. Funds raised will be utilized to purchase uniforms\, training aids\, and fund community service projects within our community. We are excited to host our first annual golf outing fundraiser! Please visit https://cityofmacomb.com/police-explorer-program/ to register!
LOCATION:Harry Mussatto Golf Course
UID:e.2125.14476
SEQUENCE:3
DTSTAMP:20260423T054847Z
URL:https://business.macombareachamber.com/events/details/golf-outing-fundraiser-14476
END:VEVENT

END:VCALENDAR
