BEGIN:VCALENDAR
VERSION:2.0
PRODID:-//ChamberMaster//Event Calendar 2.0//EN
METHOD:PUBLISH
X-PUBLISHED-TTL:P3D
REFRESH-INTERVAL:P3D
CALSCALE:GREGORIAN
BEGIN:VEVENT
DTSTART:20220910T140000Z
DTEND:20220910T230000Z
X-MICROSOFT-CDO-ALLDAYEVENT:FALSE
SUMMARY:Gazebo Art Festival 2022
DESCRIPTION:Juried art festival with a variety of artists and artisans. Food trucks will be available.
X-ALT-DESC;FMTTYPE=text/html:<span style="color: rgb(75\, 79\, 86)\; font-family: Helvetica\, Arial\, sans-serif\; font-size: 14px\;">Juried art festival with a variety of artists and artisans. Food trucks will be available.</span>
LOCATION:Chandler Park 200 N Lafayette Macomb\, IL
UID:e.2125.9931
SEQUENCE:3
DTSTAMP:20260423T085625Z
URL:https://business.macombareachamber.com/events/details/gazebo-art-festival-2022-9931
END:VEVENT

END:VCALENDAR
