BEGIN:VCALENDAR
VERSION:2.0
PRODID:-//ChamberMaster//Event Calendar 2.0//EN
METHOD:PUBLISH
X-PUBLISHED-TTL:P3D
REFRESH-INTERVAL:P3D
CALSCALE:GREGORIAN
BEGIN:VEVENT
DTSTART:20240907T140000Z
DTEND:20240907T210000Z
X-MICROSOFT-CDO-ALLDAYEVENT:FALSE
SUMMARY:Friends of the Library Book Sale
DESCRIPTION:Hundreds of good conditioned children\, youth\, and adult book along with a large selection of media will be for sale with proceeds invested in the Macomb Public Library. Books are arranged in subject categories such as mysteries\, fiction\, science fiction\, history/biography\, non fiction\, wellness\, religion\, cookbooks\, etc. This is a fair weather sale only and will be cancelled if there is rain.
X-ALT-DESC;FMTTYPE=text/html:Hundreds of good conditioned children\, youth\, and adult book along with a large selection of media will be for sale with proceeds invested in the Macomb Public Library. Books are arranged in subject categories such as mysteries\, fiction\, science fiction\, history/biography\, non fiction\, wellness\, religion\, cookbooks\, etc. This is a fair weather sale only and will be cancelled if there is rain.
LOCATION:Chandler Park
UID:e.2125.15439
SEQUENCE:3
DTSTAMP:20260422T061721Z
URL:https://business.macombareachamber.com/events/details/friends-of-the-library-book-sale-15439
END:VEVENT

END:VCALENDAR
