BEGIN:VCALENDAR
VERSION:2.0
PRODID:-//ChamberMaster//Event Calendar 2.0//EN
METHOD:PUBLISH
X-PUBLISHED-TTL:P3D
REFRESH-INTERVAL:P3D
CALSCALE:GREGORIAN
BEGIN:VEVENT
DTSTART:20230815T213000Z
DTEND:20230816T000000Z
X-MICROSOFT-CDO-ALLDAYEVENT:FALSE
SUMMARY:Freshmen and New Student MHS Orientation/Back to School Event
DESCRIPTION:Freshmen & New Student Orientation. Introduction to high school. Meet administrators\, counselors\, and support staff. Learn procedures and Q&A. \n\n\n\nParents & Students Grades 9-12 Back to school event from 5:30-7 pm.
X-ALT-DESC;FMTTYPE=text/html:Freshmen &amp\; New Student Orientation. Introduction to high school. Meet administrators\, counselors\, and support staff. Learn procedures and Q&amp\;A.&nbsp\;<br />\n<br />\nParents &amp\; Students Grades 9-12 Back to school event from 5:30-7 pm.
LOCATION:Macomb High School 1525 S. Johnson St. Macomb\, Illinois
UID:e.2125.13658
SEQUENCE:3
DTSTAMP:20260423T175225Z
URL:https://business.macombareachamber.com/events/details/freshmen-and-new-student-mhs-orientation-back-to-school-event-13658
END:VEVENT

END:VCALENDAR
