BEGIN:VCALENDAR
VERSION:2.0
PRODID:-//ChamberMaster//Event Calendar 2.0//EN
METHOD:PUBLISH
X-PUBLISHED-TTL:P3D
REFRESH-INTERVAL:P3D
CALSCALE:GREGORIAN
BEGIN:VEVENT
DTSTART:20240921T000000Z
DTEND:20240921T030000Z
X-MICROSOFT-CDO-ALLDAYEVENT:FALSE
SUMMARY:Free Movie in the Park: Wonka
DESCRIPTION:Movies in the Park returns this summer to Veterans Park!\n\nBring your camping chairs and picnic blankets to enjoy the wonder of Wonka   FREE   under the stars!\n\nFree popcorn and drinks provided by First Bankers Trust Company\, NA and Refreshment Services Pepsi!  \n\nSee you September 20th - - Movie starts at 7:00 PM!\n\n___________________________________________________________\n\nWonka - rated PG\n\nWith dreams of opening a shop in a city renowned for its chocolate\, a young and poor Willy Wonka discovers that the industry is run by a cartel of greedy chocolatiers.
X-ALT-DESC;FMTTYPE=text/html:Movies in the Park returns this summer to Veterans Park!<br />\nBring your camping chairs and picnic blankets to enjoy the wonder of Wonka &#128992\; FREE &#128992\; under the stars!<br />\nFree popcorn and drinks provided by First Bankers Trust Company\, NA and Refreshment Services Pepsi! &#127871\;<br />\nSee you September 20th - - Movie starts at 7:00 PM!<br />\n___________________________________________________________<br />\nWonka - rated PG<br />\nWith dreams of opening a shop in a city renowned for its chocolate\, a young and poor Willy Wonka discovers that the industry is run by a cartel of greedy chocolatiers.&nbsp\;
LOCATION:Veterans Park 1800 E. University Drive Macomb\, IL
UID:e.2125.15709
SEQUENCE:3
DTSTAMP:20260422T075735Z
URL:https://business.macombareachamber.com/events/details/free-movie-in-the-park-wonka-15709
END:VEVENT

END:VCALENDAR
