BEGIN:VCALENDAR
VERSION:2.0
PRODID:-//ChamberMaster//Event Calendar 2.0//EN
METHOD:PUBLISH
X-PUBLISHED-TTL:P3D
REFRESH-INTERVAL:P3D
CALSCALE:GREGORIAN
BEGIN:VEVENT
DTSTART:20231028T200000Z
DTEND:20231028T230000Z
X-MICROSOFT-CDO-ALLDAYEVENT:FALSE
SUMMARY:Football: WIU Leathernecks vs. Southern Illinois University
DESCRIPTION:WIU Leathernecks vs. Southern Illinois University. Hall of Fame Weekend.
X-ALT-DESC;FMTTYPE=text/html:WIU Leathernecks vs. Southern Illinois University. Hall of Fame Weekend.&nbsp\;
LOCATION:Western Illinois University Hanson Field
UID:e.2125.13733
SEQUENCE:3
DTSTAMP:20260422T123020Z
URL:https://business.macombareachamber.com/events/details/football-wiu-leathernecks-vs-southern-illinois-university-13733
END:VEVENT

END:VCALENDAR
