BEGIN:VCALENDAR
VERSION:2.0
PRODID:-//ChamberMaster//Event Calendar 2.0//EN
METHOD:PUBLISH
X-PUBLISHED-TTL:P3D
REFRESH-INTERVAL:P3D
CALSCALE:GREGORIAN
BEGIN:VEVENT
DTSTART:20231014T200000Z
DTEND:20231014T230000Z
X-MICROSOFT-CDO-ALLDAYEVENT:FALSE
SUMMARY:Football: WIU Leathernecks vs. Missouri State University
DESCRIPTION:WIU Leathernecks vs. Missouri State University. Homecoming.
X-ALT-DESC;FMTTYPE=text/html:WIU Leathernecks vs. Missouri State University. Homecoming.&nbsp\;
LOCATION:Western Illinois University Hanson Field
UID:e.2125.13732
SEQUENCE:3
DTSTAMP:20260422T122939Z
URL:https://business.macombareachamber.com/events/details/football-wiu-leathernecks-vs-missouri-state-university-13732
END:VEVENT

END:VCALENDAR
