BEGIN:VCALENDAR
VERSION:2.0
PRODID:-//ChamberMaster//Event Calendar 2.0//EN
METHOD:PUBLISH
X-PUBLISHED-TTL:P3D
REFRESH-INTERVAL:P3D
CALSCALE:GREGORIAN
BEGIN:VEVENT
DTSTART:20230916T230000Z
DTEND:20230917T020000Z
X-MICROSOFT-CDO-ALLDAYEVENT:FALSE
SUMMARY:Football: WIU Leathernecks vs. Lindenwood
DESCRIPTION:WIU Leathernecks vs. Lindenwood. Family Day. '90s Era Football Reunion
X-ALT-DESC;FMTTYPE=text/html:WIU Leathernecks vs. Lindenwood. Family Day. &#39\;90s Era Football Reunion
LOCATION:Western Illinois University Hanson Field
UID:e.2125.13729
SEQUENCE:3
DTSTAMP:20260422T154520Z
URL:https://business.macombareachamber.com/events/details/football-wiu-leathernecks-vs-lindenwood-13729
END:VEVENT

END:VCALENDAR
