BEGIN:VCALENDAR
VERSION:2.0
PRODID:-//ChamberMaster//Event Calendar 2.0//EN
METHOD:PUBLISH
X-PUBLISHED-TTL:P3D
REFRESH-INTERVAL:P3D
CALSCALE:GREGORIAN
BEGIN:VEVENT
DTSTART;VALUE=DATE:20220917
DTEND;VALUE=DATE:20220918
TRANSP:TRANSPARENT
X-MICROSOFT-CDO-ALLDAYEVENT:TRUE
SUMMARY:Food. Family. Farming. Football.
DESCRIPTION:Join the WIU School of Agriculture and the University Union Board as we look forward to the fourth annual Food\, Family\, Farming\, Football BBQ Competition on Saturday\, September 17\, 2022. Come to compete or enjoy the food with friends and family.\n\nLeatherneck Football game tickets are only $10. WIU students are admitted for FREE! Game time TBA.
X-ALT-DESC;FMTTYPE=text/html:<p style="margin: 0px\; padding: 0.5em 0px\; border: 0px\; font-variant-numeric: inherit\; font-variant-east-asian: inherit\; font-stretch: inherit\; font-size: 16px\; line-height: 24px\; font-family: &quot\;Open Sans&quot\;\, serif\; vertical-align: baseline\; color: rgb(0\, 0\, 0)\;">Join the WIU School of Agriculture and the University Union Board as we look forward to the fourth annual Food\, Family\, Farming\, Football BBQ Competition on Saturday\, September 17\, 2022. Come to compete or enjoy the food with friends and family.</p>\n\n<p style="margin: 0px\; padding: 0.5em 0px\; border: 0px\; font-variant-numeric: inherit\; font-variant-east-asian: inherit\; font-stretch: inherit\; font-size: 16px\; line-height: 24px\; font-family: &quot\;Open Sans&quot\;\, serif\; vertical-align: baseline\; color: rgb(0\, 0\, 0)\;"><a href="http://www.goleathernecks.com/index.aspx?path=football" style="margin: 0px\; padding: 0px\; border: 0px\; font: inherit\; vertical-align: baseline\; color: rgb(102\, 51\, 153)\; text-decoration-line: none\;">Leatherneck Football</a>&nbsp\;game tickets are only $10. WIU students are admitted for FREE! Game time TBA.</p>\n
LOCATION:
UID:e.2125.8145
SEQUENCE:3
DTSTAMP:20260423T085926Z
URL:https://business.macombareachamber.com/events/details/food-family-farming-football-8145
END:VEVENT

END:VCALENDAR
