BEGIN:VCALENDAR
VERSION:2.0
PRODID:-//ChamberMaster//Event Calendar 2.0//EN
METHOD:PUBLISH
X-PUBLISHED-TTL:P3D
REFRESH-INTERVAL:P3D
CALSCALE:GREGORIAN
BEGIN:VEVENT
DTSTART:20220704T110000Z
DTEND:20220704T230000Z
X-MICROSOFT-CDO-ALLDAYEVENT:FALSE
SUMMARY:Flags of Love
DESCRIPTION:FLAGS OF LOVE\n\n\n\nMayor Inman and the Flags of Love Committee announce that the Flags of Love will be displayed in Chandler Park on Independence Day\, Monday\, July 4\, 2022 from 6:00 a.m. until 6:00 p.m. with the volunteer help of the Elks & Eagles Clubs members and all who would like to volunteer.\n\n\n\nIn the event of inclement weather and the need to cancel\, there will be a red ribbon on a pole on the southeast corner of Chandler Park.
X-ALT-DESC;FMTTYPE=text/html:<div class="kvgmc6g5 cxmmr5t8 oygrvhab hcukyx3x c1et5uql ii04i59q" style="overflow-wrap: break-word\; margin: 0px\; white-space: pre-wrap\; font-family: &quot\;Segoe UI Historic&quot\;\, &quot\;Segoe UI&quot\;\, Helvetica\, Arial\, sans-serif\; color: rgb(5\, 5\, 5)\; font-size: 15px\; background-color: rgb(255\, 255\, 255)\;">\n<div dir="auto" style="font-family: inherit\;">FLAGS OF LOVE</div>\n</div>\n\n<div class="cxmmr5t8 oygrvhab hcukyx3x c1et5uql o9v6fnle ii04i59q" style="overflow-wrap: break-word\; margin: 0.5em 0px 0px\; white-space: pre-wrap\; font-family: &quot\;Segoe UI Historic&quot\;\, &quot\;Segoe UI&quot\;\, Helvetica\, Arial\, sans-serif\; color: rgb(5\, 5\, 5)\; font-size: 15px\; background-color: rgb(255\, 255\, 255)\;">\n<div dir="auto" style="font-family: inherit\;">Mayor Inman and the Flags of Love Committee announce that the Flags of Love will be displayed in Chandler Park on Independence Day\, Monday\, July 4\, 2022 from 6:00 a.m. until 6:00 p.m. with the volunteer help of the Elks &amp\; Eagles Clubs members and all who would like to volunteer.</div>\n</div>\n\n<div class="cxmmr5t8 oygrvhab hcukyx3x c1et5uql o9v6fnle ii04i59q" style="overflow-wrap: break-word\; margin: 0.5em 0px 0px\; white-space: pre-wrap\; font-family: &quot\;Segoe UI Historic&quot\;\, &quot\;Segoe UI&quot\;\, Helvetica\, Arial\, sans-serif\; color: rgb(5\, 5\, 5)\; font-size: 15px\; background-color: rgb(255\, 255\, 255)\;">\n<div dir="auto" style="font-family: inherit\;">In the event of inclement weather and the need to cancel\, there will be a red ribbon on a pole on the southeast corner of Chandler Park.</div>\n</div>\n
LOCATION:
UID:e.2125.9898
SEQUENCE:3
DTSTAMP:20260422T120129Z
URL:https://business.macombareachamber.com/events/details/flags-of-love-9898
END:VEVENT

END:VCALENDAR
