BEGIN:VCALENDAR
VERSION:2.0
PRODID:-//ChamberMaster//Event Calendar 2.0//EN
METHOD:PUBLISH
X-PUBLISHED-TTL:P3D
REFRESH-INTERVAL:P3D
CALSCALE:GREGORIAN
BEGIN:VEVENT
DTSTART;VALUE=DATE:20230911
DTEND;VALUE=DATE:20230912
TRANSP:TRANSPARENT
X-MICROSOFT-CDO-ALLDAYEVENT:TRUE
SUMMARY:Flags of Love
DESCRIPTION:MACOMB   Mayor Inman and the Macomb Flags Of Love and Memorial Bricks Committee announce that the Flags of Love will be displayed in Chandler Park on Labor Day\, Monday\, September 4\, 2023\, from 7:00 a.m. until 5:00 p.m. with the volunteer help of the community.  \n\nIn the event of inclement weather and the need to cancel\, there will be a red ribbon on a pole on the southeast corner of Chandler Park.
X-ALT-DESC;FMTTYPE=text/html:MACOMB &ndash\; Mayor Inman and the Macomb Flags Of Love and Memorial Bricks Committee announce that the Flags of Love will be displayed in Chandler Park on Labor Day\, Monday\, September 4\, 2023\, from 7:00 a.m. until 5:00 p.m. with the volunteer help of the community.&nbsp\;&nbsp\;<br />\nIn the event of inclement weather and the need to cancel\, there will be a red ribbon on a pole on the southeast corner of Chandler Park.
LOCATION:
UID:e.2125.13754
SEQUENCE:3
DTSTAMP:20260422T152452Z
URL:https://business.macombareachamber.com/events/details/flags-of-love-13754
END:VEVENT

END:VCALENDAR
