BEGIN:VCALENDAR
VERSION:2.0
PRODID:-//ChamberMaster//Event Calendar 2.0//EN
METHOD:PUBLISH
X-PUBLISHED-TTL:P3D
REFRESH-INTERVAL:P3D
CALSCALE:GREGORIAN
BEGIN:VEVENT
DTSTART:20250428T210000Z
DTEND:20250429T000000Z
X-MICROSOFT-CDO-ALLDAYEVENT:FALSE
SUMMARY:Final Pastorelli Pastapalooza
DESCRIPTION:ALL FUNDS RAISED WILL BE USED TO HELP THE YMCA PURCHASE A NEW GYMNASTICS FLOOR!\n\n  DINNER PREPARED BY: CHEF NATE & CHEF CHELSEY\n\nDinner includes:\n\n\n\nPasta\n\n\n\nMarinara sauce or meat sauce\n\n\n\nGarlic bread\n\n\n\nVegetable\n\n\n\nDessert\n\n\n\n(Drinks from the Legion and extra desserts will be available for purchase.)\n\n\n\n  You can purchase tickets ahead of time or at the door!\n\nWe have Dine-in\, To-Go\, & Drive-Thru available!
X-ALT-DESC;FMTTYPE=text/html:ALL FUNDS RAISED WILL BE USED TO HELP THE YMCA PURCHASE A NEW GYMNASTICS FLOOR!<br />\n&#127837\; DINNER PREPARED BY: CHEF NATE &amp\; CHEF CHELSEY<br />\nDinner includes:<br />\n<br />\nPasta<br />\n<br />\nMarinara sauce or meat sauce<br />\n<br />\nGarlic bread<br />\n<br />\nVegetable<br />\n<br />\nDessert<br />\n<br />\n(Drinks from the Legion and extra desserts will be available for purchase.)<br />\n<br />\n&#128179\; You can purchase tickets ahead of time or at the door!<br />\nWe have Dine-in\, To-Go\, &amp\; Drive-Thru available!
LOCATION:American Legion - 221 E. Washington Street\, Macomb
UID:e.2125.18792
SEQUENCE:3
DTSTAMP:20260420T112935Z
URL:https://business.macombareachamber.com/events/details/final-pastorelli-pastapalooza-18792
END:VEVENT

END:VCALENDAR
