BEGIN:VCALENDAR
VERSION:2.0
PRODID:-//ChamberMaster//Event Calendar 2.0//EN
METHOD:PUBLISH
X-PUBLISHED-TTL:P3D
REFRESH-INTERVAL:P3D
CALSCALE:GREGORIAN
BEGIN:VEVENT
DTSTART:20240426T223000Z
DTEND:20240427T003000Z
X-MICROSOFT-CDO-ALLDAYEVENT:FALSE
SUMMARY:Final Friday Concert with Bill Maakestad
DESCRIPTION:The Wine Sellers (121 S. Randolph\, Macomb). Choosing songs about water--whether it is in rivers or streams\, in the form of rain or tears\, running wild or quietly soothing from his vast repertoire of songs\, Maakestad will entertain his audience while supporting the OBOC Festival and underscoring its theme.
X-ALT-DESC;FMTTYPE=text/html:The Wine Sellers (121 S. Randolph\, Macomb). Choosing songs about water--whether it is in rivers or streams\, in the form of rain or tears\, running wild or quietly soothing&mdash\;from his vast repertoire of songs\, Maakestad will entertain his audience while supporting the OBOC Festival and underscoring its theme.
LOCATION:The Wine Sellers
UID:e.2125.14562
SEQUENCE:3
DTSTAMP:20260423T055458Z
URL:https://business.macombareachamber.com/events/details/final-friday-concert-with-bill-maakestad-14562
END:VEVENT

END:VCALENDAR
