BEGIN:VCALENDAR
VERSION:2.0
PRODID:-//ChamberMaster//Event Calendar 2.0//EN
METHOD:PUBLISH
X-PUBLISHED-TTL:P3D
REFRESH-INTERVAL:P3D
CALSCALE:GREGORIAN
BEGIN:VEVENT
DTSTART:20220728T120000Z
DTEND:20220728T170000Z
X-MICROSOFT-CDO-ALLDAYEVENT:FALSE
SUMMARY:Farmers Market
DESCRIPTION:Farmers Market
X-ALT-DESC;FMTTYPE=text/html:Farmers Market
LOCATION:Chandler Park Macomb\, IL
UID:e.2125.9130
SEQUENCE:3
DTSTAMP:20260422T120535Z
URL:https://business.macombareachamber.com/events/details/farmers-market-07-28-2022-9130
END:VEVENT

END:VCALENDAR
