BEGIN:VCALENDAR
VERSION:2.0
PRODID:-//ChamberMaster//Event Calendar 2.0//EN
METHOD:PUBLISH
X-PUBLISHED-TTL:P3D
REFRESH-INTERVAL:P3D
CALSCALE:GREGORIAN
BEGIN:VEVENT
DTSTART:20230910T190000Z
DTEND:20230910T210000Z
X-MICROSOFT-CDO-ALLDAYEVENT:FALSE
SUMMARY:Family Jam: Harmony Together is Better
DESCRIPTION:Family Jam is a back to school event The Crossing Macomb puts on every year. This year kids will have lots of fun through crafts\, sing along music\, games\, cookie decorating\, and so much more!\n\n\n\nWe even have a little something for the parents to take a seat\, relax\, and learn more about how "together is better!" Additionally\, each person who attends will be entered into a gift card raffle! We would love to see you there!
X-ALT-DESC;FMTTYPE=text/html:Family Jam is a back to school event The Crossing Macomb puts on every year. This year kids will have lots of fun through crafts\, sing along music\, games\, cookie decorating\, and so much more!<br />\n<br />\nWe even have a little something for the parents to take a seat\, relax\, and learn more about how &quot\;together is better!&quot\; Additionally\, each person who attends will be entered into a gift card raffle! We would love to see you there!
LOCATION:The Crossing 1600 W. Jackson St. Macomb\, IL
UID:e.2125.13752
SEQUENCE:3
DTSTAMP:20260422T151203Z
URL:https://business.macombareachamber.com/events/details/family-jam-harmony-together-is-better-13752
END:VEVENT

END:VCALENDAR
