BEGIN:VCALENDAR
VERSION:2.0
PRODID:-//ChamberMaster//Event Calendar 2.0//EN
METHOD:PUBLISH
X-PUBLISHED-TTL:P3D
REFRESH-INTERVAL:P3D
CALSCALE:GREGORIAN
BEGIN:VEVENT
DTSTART:20240928T183000Z
DTEND:20240928T223000Z
X-MICROSOFT-CDO-ALLDAYEVENT:FALSE
SUMMARY:Family Day BBQ Competition & Tasting
DESCRIPTION:Western Illinois University Family Day BBQ Competition & Tasting. Hosted by the Office of Student Engagement & School of Agriculture. Football BBQ Competition on Saturday\, September 28\, 2024. Live music\, activities for the entire family\, bags tournament\, and the battle for the best BBQ around followed by the Fighting Leatherneck game at 6 p.m. will make for a great day to be a Leatherneck!\n\n\n\n**The event begins at 1:30PM. Food will be served while supplies last so don't be late to the fun.**
X-ALT-DESC;FMTTYPE=text/html:Western Illinois University Family Day BBQ Competition &amp\; Tasting. Hosted by the Office of Student Engagement &amp\; School of Agriculture.&nbsp\;Football BBQ Competition on Saturday\, September 28\, 2024. Live music\, activities for the entire family\, bags tournament\, and the battle for the best BBQ around followed by the Fighting Leatherneck game at 6 p.m. will make for a great day to be a Leatherneck!<br />\n<br />\n**The event begins at 1:30PM. Food will be served while supplies last so don&#39\;t be late to the fun.**
LOCATION:Western Illinois University Macomb Campus - Q Lot
UID:e.2125.15705
SEQUENCE:3
DTSTAMP:20260422T075723Z
URL:https://business.macombareachamber.com/events/details/family-day-bbq-competition-tasting-15705
END:VEVENT

END:VCALENDAR
