BEGIN:VCALENDAR
VERSION:2.0
PRODID:-//ChamberMaster//Event Calendar 2.0//EN
METHOD:PUBLISH
X-PUBLISHED-TTL:P3D
REFRESH-INTERVAL:P3D
CALSCALE:GREGORIAN
BEGIN:VEVENT
DTSTART;VALUE=DATE:20231005
DTEND;VALUE=DATE:20231006
TRANSP:TRANSPARENT
X-MICROSOFT-CDO-ALLDAYEVENT:TRUE
SUMMARY:Fall Charcuterie - Build Your Own Board Class
DESCRIPTION:Come spend the evening with Spreadz at the Colchester Library learning how to build your own fall themed charcuterie board! Must register by October 3. To register call the library or use our website. \n\nLocation: Colchester Library\n\nDate: October 5 \n\nTime: 6 PM
X-ALT-DESC;FMTTYPE=text/html:Come spend the evening with Spreadz at the Colchester Library learning how to build your own fall themed charcuterie board! Must register by October 3. To register call the library or use our website.&nbsp\;<br />\nLocation: Colchester Library<br />\nDate: October 5&nbsp\;<br />\nTime: 6 PM
LOCATION:Colchester District Library 203 Macomb Street Colchester\, Illinois
UID:e.2125.14004
SEQUENCE:3
DTSTAMP:20260422T122534Z
URL:https://business.macombareachamber.com/events/details/fall-charcuterie-build-your-own-board-class-14004
END:VEVENT

END:VCALENDAR
