BEGIN:VCALENDAR
VERSION:2.0
PRODID:-//ChamberMaster//Event Calendar 2.0//EN
METHOD:PUBLISH
X-PUBLISHED-TTL:P3D
REFRESH-INTERVAL:P3D
CALSCALE:GREGORIAN
BEGIN:VEVENT
DTSTART:20241014T220000Z
DTEND:20241015T020000Z
X-MICROSOFT-CDO-ALLDAYEVENT:FALSE
SUMMARY:FAA Part 107 UAS Certification and Hands-On Drone Training
DESCRIPTION:Western Illinois University's School of Law Enforcement and Justice Administration (LEJA) and the GIS Center are sponsoring a free\, virtual FAA Part 107 training course from 5-9 p.m. Monday-Thursday\, Oct. 14-17. The course\, conducted online via Microsoft Teams\, is designed for emergency managers\, first responders\, police\, fire\, EMS\, conservation officers\, GIS professionals and students in public safety-related fields. This training is not intended for commercial applications and participants are responsible for the $150 certification exam fee.\n\n\n\nParticipants who successfully obtain their FAA Part 107 certification or already hold it will be eligible for an in-person\, hands-on drone training class from 8 a.m.-4 p.m. Saturday\, Dec. 14\, at the WIU Macomb campus. This advanced training will focus on practical UAS flight skills\, essential for operations in public safety\, natural disasters\, emergencies and search and rescue missions.\n\n\n\nThe FAA Part 107 certification is mandatory for professionals using drones in public safety operations. This course ensures that practitioners have the foundational knowledge required to operate Unmanned Aerial Systems (UAS) legally and effectively.\n\n\n\nRegistration is on a first-come\, first-served basis and proof of FAA Part 107 certification is required for future advanced UAS training.\n\n\n\nAttendees must agree to schedule and take the FAA Part 107 exam during the course\, providing proof of certification to qualify for future UAS training.
X-ALT-DESC;FMTTYPE=text/html:Western Illinois University&#39\;s School of Law Enforcement and Justice Administration (LEJA) and the GIS Center are sponsoring a free\, virtual FAA Part 107 training course from 5-9 p.m. Monday-Thursday\, Oct. 14-17. The course\, conducted online via Microsoft Teams\, is designed for emergency managers\, first responders\, police\, fire\, EMS\, conservation officers\, GIS professionals and students in public safety-related fields. This training is not intended for commercial applications and participants are responsible for the $150 certification exam fee.<br />\n<br />\nParticipants who successfully obtain their FAA Part 107 certification or already hold it will be eligible for an in-person\, hands-on drone training class from 8 a.m.-4 p.m. Saturday\, Dec. 14\, at the WIU Macomb campus. This advanced training will focus on practical UAS flight skills\, essential for operations in public safety\, natural disasters\, emergencies and search and rescue missions.<br />\n<br />\nThe FAA Part 107 certification is mandatory for professionals using drones in public safety operations. This course ensures that practitioners have the foundational knowledge required to operate Unmanned Aerial Systems (UAS) legally and effectively.<br />\n<br />\nRegistration is on a first-come\, first-served basis and proof of FAA Part 107 certification is required for future advanced UAS training.<br />\n<br />\nAttendees must agree to schedule and take the FAA Part 107 exam during the course\, providing proof of certification to qualify for future UAS training.
LOCATION:Virtual via Microsoft Teams
UID:e.2125.15962
SEQUENCE:3
DTSTAMP:20260422T003852Z
URL:https://business.macombareachamber.com/events/details/faa-part-107-uas-certification-and-hands-on-drone-training-15962
END:VEVENT

END:VCALENDAR
