BEGIN:VCALENDAR
VERSION:2.0
PRODID:-//ChamberMaster//Event Calendar 2.0//EN
METHOD:PUBLISH
X-PUBLISHED-TTL:P3D
REFRESH-INTERVAL:P3D
CALSCALE:GREGORIAN
BEGIN:VEVENT
DTSTART:20230410T140000Z
DTEND:20230410T200000Z
X-MICROSOFT-CDO-ALLDAYEVENT:FALSE
SUMMARY:Everly House 70 Year Celebration
DESCRIPTION:Celebrating 70 years at the Everly House. Stop in for a tour and enjoy a sweet treat!
X-ALT-DESC;FMTTYPE=text/html:Celebrating 70 years at the Everly House. Stop in for a tour and enjoy a sweet treat!&nbsp\;
LOCATION:Everly House - 811 S. Lafayette Street\, Macomb
UID:e.2125.13096
SEQUENCE:3
DTSTAMP:20260423T221531Z
URL:https://business.macombareachamber.com/events/details/everly-house-70-year-celebration-13096
END:VEVENT

END:VCALENDAR
