BEGIN:VCALENDAR
VERSION:2.0
PRODID:-//ChamberMaster//Event Calendar 2.0//EN
METHOD:PUBLISH
X-PUBLISHED-TTL:P3D
REFRESH-INTERVAL:P3D
CALSCALE:GREGORIAN
BEGIN:VEVENT
DTSTART:20241008T153000Z
DTEND:20241008T153000Z
X-MICROSOFT-CDO-ALLDAYEVENT:FALSE
SUMMARY:Engine & Caboose
DESCRIPTION:Engine and Caboose Preschool Program\n\nTuesdays and Wednesdays 10:30 -11:30am\n\n\n\nScarecrow:- Cynthia Rylant
X-ALT-DESC;FMTTYPE=text/html:Engine and Caboose Preschool Program<br />\nTuesdays and Wednesdays 10:30 -11:30am<br />\n<br />\nScarecrow:- Cynthia Rylant
LOCATION:Discovery Depot 128 S. Chambers St Galesburg\, IL 61401
UID:e.2125.16026
SEQUENCE:3
DTSTAMP:20260422T054313Z
URL:https://business.macombareachamber.com/events/details/engine-caboose-10-08-2024-16026
END:VEVENT

END:VCALENDAR
