BEGIN:VCALENDAR
VERSION:2.0
PRODID:-//ChamberMaster//Event Calendar 2.0//EN
METHOD:PUBLISH
X-PUBLISHED-TTL:P3D
REFRESH-INTERVAL:P3D
CALSCALE:GREGORIAN
BEGIN:VEVENT
DTSTART:20240910T153000Z
DTEND:20240910T163000Z
X-MICROSOFT-CDO-ALLDAYEVENT:FALSE
SUMMARY:Engine & Caboose
DESCRIPTION:Engine and Caboose Preschool Program\n\nTuesdays and Wednesdays  10:30 - 11:30 AM\n\n\n\nEngine and Caboose is a weekly preschool program for children ages 2 to 5 years old.  It promotes literacy\, fine motor\, and math skills.   FREE with paid admission. \n\n\n\nProgram runs September to May only. \n\n\n\nSeptember 10th & 11th:  Pete the Cat (Wheels on the Bus)\n\n\n\nSeptember 17th &18th:  The Very Hungry Catepillar's First Fall\n\n\n\nSeptember 24th & 25th:  Biscuit Visits the Pumpkin Patch
X-ALT-DESC;FMTTYPE=text/html:Engine and Caboose Preschool Program<br />\nTuesdays and Wednesdays&nbsp\; 10:30 - 11:30 AM<br />\n<br />\nEngine and Caboose is a weekly preschool program for children ages 2 to 5 years old.&nbsp\; It promotes literacy\, fine motor\, and math skills.&nbsp\; &nbsp\;FREE with paid admission.&nbsp\;<br />\n<br />\nProgram runs September to May only.&nbsp\;<br />\n<br />\nSeptember 10th &amp\; 11th:&nbsp\; Pete the Cat (Wheels on the Bus)<br />\n<br />\nSeptember 17th &amp\;18th:&nbsp\; The Very Hungry Catepillar&#39\;s First Fall<br />\n<br />\nSeptember 24th &amp\; 25th:&nbsp\; Biscuit Visits the Pumpkin Patch
LOCATION:Discovery Depot Children's Museum 128 S Chambers Street Galesburg\, Il
UID:e.2125.15934
SEQUENCE:3
DTSTAMP:20260422T075228Z
URL:https://business.macombareachamber.com/events/details/engine-caboose-09-10-2024-15934
END:VEVENT

END:VCALENDAR
