BEGIN:VCALENDAR
VERSION:2.0
PRODID:-//ChamberMaster//Event Calendar 2.0//EN
METHOD:PUBLISH
X-PUBLISHED-TTL:P3D
REFRESH-INTERVAL:P3D
CALSCALE:GREGORIAN
BEGIN:VEVENT
DTSTART:20250315T153000Z
DTEND:20250315T180000Z
X-MICROSOFT-CDO-ALLDAYEVENT:FALSE
SUMMARY:Engine & Caboose
DESCRIPTION:Kids Engineer - Design your own Leprechaun Trap \n\n$1.00 with admission
X-ALT-DESC;FMTTYPE=text/html:Kids Engineer - Design your own Leprechaun Trap&nbsp\;<br />\n$1.00 with admission
LOCATION:Discovery Depot - 128 South Chambers Street\, Galesburg\, IL 61401
UID:e.2125.18766
SEQUENCE:3
DTSTAMP:20260424T052204Z
URL:https://business.macombareachamber.com/events/details/engine-caboose-03-15-2025-18766
END:VEVENT

END:VCALENDAR
