BEGIN:VCALENDAR
VERSION:2.0
PRODID:-//ChamberMaster//Event Calendar 2.0//EN
METHOD:PUBLISH
X-PUBLISHED-TTL:P3D
REFRESH-INTERVAL:P3D
CALSCALE:GREGORIAN
BEGIN:VEVENT
DTSTART:20231003T153000Z
DTEND:20231003T163000Z
X-MICROSOFT-CDO-ALLDAYEVENT:FALSE
SUMMARY:Engine and Caboose
DESCRIPTION:Join us for weekly skill development for toddlers and pre-k. Free with admission
X-ALT-DESC;FMTTYPE=text/html:Join us for weekly skill development for toddlers and pre-k. Free with admission
LOCATION:Discovery Depot Children's Museum 128 South Chambers Street Galesburg IL\, 61401
UID:e.2125.14025
SEQUENCE:3
DTSTAMP:20260422T135724Z
URL:https://business.macombareachamber.com/events/details/engine-and-caboose-10-03-2023-14025
END:VEVENT

END:VCALENDAR
