BEGIN:VCALENDAR
VERSION:2.0
PRODID:-//ChamberMaster//Event Calendar 2.0//EN
METHOD:PUBLISH
X-PUBLISHED-TTL:P3D
REFRESH-INTERVAL:P3D
CALSCALE:GREGORIAN
BEGIN:VEVENT
DTSTART:20230620T153000Z
DTEND:20230622T170000Z
X-MICROSOFT-CDO-ALLDAYEVENT:FALSE
SUMMARY:Encanto Fans Camp
DESCRIPTION:Explore the magic of Encanto with the magical door\, obstacle courses\, floral bouquets\, magical candles and rainclouds. Learn about and create each fan favorite character! Ages 4 and up. $45 for Members/$50 for Non-Members.
X-ALT-DESC;FMTTYPE=text/html:Explore the magic of Encanto with the magical door\, obstacle courses\, floral bouquets\, magical candles and rainclouds. Learn about and create each fan favorite character! Ages 4 and up. $45 for Members/$50 for Non-Members.
LOCATION:Discovery Depot Children's Museum 128 S Chambers St Galesburg\, IL 61401
UID:e.2125.13126
SEQUENCE:3
DTSTAMP:20260423T192400Z
URL:https://business.macombareachamber.com/events/details/encanto-fans-camp-13126
END:VEVENT

END:VCALENDAR
