BEGIN:VCALENDAR
VERSION:2.0
PRODID:-//ChamberMaster//Event Calendar 2.0//EN
METHOD:PUBLISH
X-PUBLISHED-TTL:P3D
REFRESH-INTERVAL:P3D
CALSCALE:GREGORIAN
BEGIN:VEVENT
DTSTART;VALUE=DATE:20240724
DTEND;VALUE=DATE:20240725
TRANSP:TRANSPARENT
X-MICROSOFT-CDO-ALLDAYEVENT:TRUE
SUMMARY:Employability Skills Workshop
DESCRIPTION:Spoon River College's Employability Skills Centers offer anyone seeking to obtain a job\, change careers\, or seeking advancement in a current job a variety of workshops and training opportunities. Participants can explore career fields and job availabilities\, increase technology skills\, learn to write winning resumes\, and learn what employers are looking for in today's workforce.\n\n\n\nThese workshops are FREE thanks to grant funding from the ICCB Non-Credit Workforce Training Grant
X-ALT-DESC;FMTTYPE=text/html:Spoon River College&#39\;s Employability Skills Centers offer anyone seeking to obtain a job\, change careers\, or seeking advancement in a current job a variety of workshops and training opportunities. Participants can explore career fields and job availabilities\, increase technology skills\, learn to write winning resumes\, and learn what employers are looking for in today&#39\;s workforce.<br />\n<br />\nThese workshops are FREE thanks to grant funding from the ICCB Non-Credit Workforce Training Grant
LOCATION:
UID:e.2125.15162
SEQUENCE:3
DTSTAMP:20260421T144101Z
URL:https://business.macombareachamber.com/events/details/employability-skills-workshop-15162
END:VEVENT

END:VCALENDAR
