BEGIN:VCALENDAR
VERSION:2.0
PRODID:-//ChamberMaster//Event Calendar 2.0//EN
METHOD:PUBLISH
X-PUBLISHED-TTL:P3D
REFRESH-INTERVAL:P3D
CALSCALE:GREGORIAN
BEGIN:VEVENT
DTSTART:20250412T140000Z
DTEND:20250412T153000Z
X-MICROSOFT-CDO-ALLDAYEVENT:FALSE
SUMMARY:Egg Extravaganza
DESCRIPTION:Fun filled morning of Egg Activities! Candy Egg Walk\, Bubble Fun\, Engineer a Peep Nest and more! Admission is $8.50 for nonmember (includes admission for the day)/$5.00 for member
X-ALT-DESC;FMTTYPE=text/html:Fun filled morning of Egg Activities! Candy Egg Walk\, Bubble Fun\, Engineer a Peep Nest and more! Admission is $8.50 for nonmember (includes admission for the day)/$5.00 for member
LOCATION:Discovery Depot Children's Museum 128 S. Chambers Street Galesburg\, IL 61401
UID:e.2125.18781
SEQUENCE:3
DTSTAMP:20260420T111950Z
URL:https://business.macombareachamber.com/events/details/egg-extravaganza-18781
END:VEVENT

END:VCALENDAR
