BEGIN:VCALENDAR
VERSION:2.0
PRODID:-//ChamberMaster//Event Calendar 2.0//EN
METHOD:PUBLISH
X-PUBLISHED-TTL:P3D
REFRESH-INTERVAL:P3D
CALSCALE:GREGORIAN
BEGIN:VEVENT
DTSTART;VALUE=DATE:20250412
DTEND;VALUE=DATE:20250413
TRANSP:TRANSPARENT
X-MICROSOFT-CDO-ALLDAYEVENT:TRUE
SUMMARY:Easter Eggstravaganza
DESCRIPTION:Egg Hunt for ages Crawling - 12 years. Goodie Bags. Prizes. Easter Bunny.
X-ALT-DESC;FMTTYPE=text/html:Egg Hunt for ages Crawling - 12 years. Goodie Bags. Prizes. Easter Bunny.&nbsp\;
LOCATION:YMCA Childcare Center 520 E. Piper Street Macomb\, IL
UID:e.2125.18786
SEQUENCE:3
DTSTAMP:20260420T112441Z
URL:https://business.macombareachamber.com/events/details/easter-eggstravaganza-18786
END:VEVENT

END:VCALENDAR
