BEGIN:VCALENDAR
VERSION:2.0
PRODID:-//ChamberMaster//Event Calendar 2.0//EN
METHOD:PUBLISH
X-PUBLISHED-TTL:P3D
REFRESH-INTERVAL:P3D
CALSCALE:GREGORIAN
BEGIN:VEVENT
DTSTART;VALUE=DATE:20230409
DTEND;VALUE=DATE:20230410
TRANSP:TRANSPARENT
X-MICROSOFT-CDO-ALLDAYEVENT:TRUE
SUMMARY:Easter at the Crossing
DESCRIPTION:It's Easter at the Crossing. We can't wait to celebrate with you. Attend in person or online.
X-ALT-DESC;FMTTYPE=text/html:It&#39\;s Easter at the Crossing. We can&#39\;t wait to celebrate with you. Attend in person or online.&nbsp\;
LOCATION:The Crossing - 1600 W. Jackson Street\, Macomb
UID:e.2125.13040
SEQUENCE:3
DTSTAMP:20260423T221429Z
URL:https://business.macombareachamber.com/events/details/easter-at-the-crossing-13040
END:VEVENT

END:VCALENDAR
